BEGIN:VCALENDAR
VERSION:2.0
PRODID:-//BENN Hindenburgdamm - ECPv6.15.20//NONSGML v1.0//EN
CALSCALE:GREGORIAN
METHOD:PUBLISH
X-WR-CALNAME:BENN Hindenburgdamm
X-ORIGINAL-URL:https://www.benn-hindenburgdamm.de
X-WR-CALDESC:Veranstaltungen für BENN Hindenburgdamm
REFRESH-INTERVAL;VALUE=DURATION:PT1H
X-Robots-Tag:noindex
X-PUBLISHED-TTL:PT1H
BEGIN:VTIMEZONE
TZID:Europe/Berlin
BEGIN:DAYLIGHT
TZOFFSETFROM:+0100
TZOFFSETTO:+0200
TZNAME:CEST
DTSTART:20250330T010000
END:DAYLIGHT
BEGIN:STANDARD
TZOFFSETFROM:+0200
TZOFFSETTO:+0100
TZNAME:CET
DTSTART:20251026T010000
END:STANDARD
BEGIN:DAYLIGHT
TZOFFSETFROM:+0100
TZOFFSETTO:+0200
TZNAME:CEST
DTSTART:20260329T010000
END:DAYLIGHT
BEGIN:STANDARD
TZOFFSETFROM:+0200
TZOFFSETTO:+0100
TZNAME:CET
DTSTART:20261025T010000
END:STANDARD
BEGIN:DAYLIGHT
TZOFFSETFROM:+0100
TZOFFSETTO:+0200
TZNAME:CEST
DTSTART:20270328T010000
END:DAYLIGHT
BEGIN:STANDARD
TZOFFSETFROM:+0200
TZOFFSETTO:+0100
TZNAME:CET
DTSTART:20271031T010000
END:STANDARD
END:VTIMEZONE
BEGIN:VEVENT
DTSTART;TZID=Europe/Berlin:20260422T180000
DTEND;TZID=Europe/Berlin:20260422T193000
DTSTAMP:20260422T104307
CREATED:20260416T132358Z
LAST-MODIFIED:20260416T132358Z
UID:10000331-1776880800-1776886200@www.benn-hindenburgdamm.de
SUMMARY:Runder Tisch Lichterfelde-West
DESCRIPTION:Wir laden herzlich zur nächsten Sitzung des Runden Tisch Lichterfelde-West ein: Sie findet am Mittwoch\, den 22. April von 18 bis 19.30 Uhr im Gutshaus Lichterfelde (Hindenburgdamm 28\, 12203 Berlin) statt. Der Runde Tisch findet dieses Mal in Zusammenarbeit mit der Kiezkonferenz der SPK (Sozialraumorientierte Planungskoordination des Bezirksamtes) statt. \nWir werden uns mit dem Thema Einsamkeit beschäftigen\, die Menschen in verschiedensten Lebenslagen erleben und die spürbare gesellschaftliche Auswirkungen hat. Unter dem Motto „Gemeinsam statt Einsam“ wollen wir uns dabei wie immer lösungsorientiert austauschen und besprechen\, wie wir der wachsenden Einsamkeit in der Nachbarschaft begegnen können. \nWir freuen uns auf den Austausch und Ihre/eure Perspektiven!
URL:https://www.benn-hindenburgdamm.de/event/runder-tisch-lichterfelde-west-5/
LOCATION:BENN Büro\, Hindenburgdamm 89\, Berlin\, 12203\, Deutschland
ATTACH;FMTTYPE=image/jpeg:https://www.benn-hindenburgdamm.de/wp-content/uploads/sites/5/2026/03/RunderTischLW_22042026-1.jpg
ORGANIZER;CN="BENN Hindenburgdamm":MAILTO:benn-hindenburgdamm@list-gmbh.de
END:VEVENT
BEGIN:VEVENT
DTSTART;TZID=Europe/Berlin:20260506T140000
DTEND;TZID=Europe/Berlin:20260506T160000
DTSTAMP:20260422T104307
CREATED:20260416T132835Z
LAST-MODIFIED:20260416T132835Z
UID:10000332-1778076000-1778083200@www.benn-hindenburgdamm.de
SUMMARY:Spaziergang "Wer oder was steckt dahinter?"
DESCRIPTION:Viele von uns sind schon oft an den Häusern und Plätzen vorbeigegangen\, kennen aber wenig von der Geschichte dahinter. Bei einem Rundgang über den Ludwig-Beck-Platz\, über Nebenstraßen zum Dorfanger ist einiges zu erfahren\, wie unsere heutige Wohnumgebung sich entwickelt hat. Mit Bärbel Jochum und Nils Seethaler vom Steglitz Museum \nWir treffen uns um 14 Uhr am BENN-Büro (Hindenburgdamm 89\, 12203) und spazieren in gemütlichem Tempo. \nWir bitten um Anmeldung per E-Mail: benn-hindenburgdamm@list-gmbh.de oder telefonisch: 030 44719770\nDer Spaziergang ist für alle kostenlos!
URL:https://www.benn-hindenburgdamm.de/event/spaziergang-wer-oder-was-steckt-dahinter/
LOCATION:BENN Büro\, Hindenburgdamm 89\, Berlin\, 12203\, Deutschland
ATTACH;FMTTYPE=image/jpeg:https://www.benn-hindenburgdamm.de/wp-content/uploads/sites/5/2026/04/Spaziergang_060526.jpg
ORGANIZER;CN="BENN Hindenburgdamm":MAILTO:benn-hindenburgdamm@list-gmbh.de
END:VEVENT
END:VCALENDAR